BEGIN:VCALENDAR
VERSION:2.0
PRODID:-//Squarespace Inc/Squarespace 6//v6//EN
BEGIN:VEVENT
UID:5f2b657c23dbc01e7fd7ea90@squarespace.com
DTSTAMP:20200806T021631Z
DTSTART:20200912T230000Z
DTEND:20200913T050000Z
SUMMARY:All British Day - PLEASE NOTE - THIS EVENT IS CANCELLED
END:VEVENT
END:VCALENDAR
