BEGIN:VCALENDAR
VERSION:2.0
PRODID:-//Squarespace Inc/Squarespace 6//v6//EN
BEGIN:VEVENT
UID:5f2b639988404a4c2d412d15@squarespace.com
DTSTAMP:20200806T021317Z
DTSTART:20200819T090000Z
DTEND:20200819T100000Z
SUMMARY:PLEASE NOTE THAT ALL MEETINGS AND CLUB RUNS ARE CANCELLED DUE TO TH
 E CORONAVIRUS PANDEMIC
END:VEVENT
END:VCALENDAR
