BEGIN:VCALENDAR
VERSION:2.0
PRODID:-//Squarespace Inc/Squarespace 6//v6//EN
BEGIN:VEVENT
UID:5e2fd30e05970d3b8457bbf8@squarespace.com
DTSTAMP:20200707T035201Z
DTSTART:20200715T090000Z
DTEND:20200715T103000Z
SUMMARY:PLEASE NOTE OUR FIRST MEETING SINCE COVID19 WILL BE HELD 15 JULY 20
 20
END:VEVENT
END:VCALENDAR
