BEGIN:VCALENDAR
VERSION:2.0
PRODID:-//Squarespace Inc/Squarespace 6//v6//EN
BEGIN:VEVENT
UID:5f03f18021c804731ba0f0f2@squarespace.com
DTSTAMP:20200720T015510Z
DTSTART:20200724T000000Z
DTEND:20200724T043000Z
SUMMARY:Run to Warragamba Dam - 24 July 2020 - PLEASE NOTE THIS EVENT IS CA
 NCELLED
END:VEVENT
END:VCALENDAR
