BEGIN:VCALENDAR
VERSION:2.0
PRODID:-//Squarespace Inc/Squarespace 6//v6//EN
BEGIN:VEVENT
UID:5e2fd22c7204aa2d2608ce92@squarespace.com
DTSTAMP:20200324T010124Z
DTSTART:20200628T003000Z
DTEND:20200628T043000Z
SUMMARY:PLEASE NOTE THAT ALL MEETINGS AND CLUB RUNS ARE CANCELLED DUE TO TH
 E CORONAVIRUS PANDEMIC
END:VEVENT
END:VCALENDAR
