BEGIN:VCALENDAR
VERSION:2.0
PRODID:-//Squarespace Inc/Squarespace 6//v6//EN
BEGIN:VEVENT
UID:5d9eab707bdd8046dbfc91ff@squarespace.com
DTSTAMP:20200324T010044Z
DTSTART:20200520T090000Z
DTEND:20200520T100000Z
SUMMARY:PLEASE NOTE THAT ALL MEETINGS AND CLUB RUNS ARE CANCELLED DUE TO TH
 E CORONAVIRUS PANDEMIC
END:VEVENT
END:VCALENDAR
