BEGIN:VCALENDAR
VERSION:2.0
PRODID:-//Squarespace Inc/Squarespace 6//v6//EN
BEGIN:VEVENT
UID:5e2fd0ca9826d330d5b3988f@squarespace.com
DTSTAMP:20200324T010027Z
DTSTART:20200516T233000Z
DTEND:20200517T053000Z
SUMMARY:PLEASE NOTE THAT ALL MEETINGS AND CLUB RUNS ARE CANCELLED DUE TO TH
 E CORONAVIRUS PANDEMIC
END:VEVENT
END:VCALENDAR
