BEGIN:VCALENDAR
VERSION:2.0
PRODID:-//Squarespace Inc/Squarespace 6//v6//EN
BEGIN:VEVENT
UID:5d9eab178704a53f90b915ea@squarespace.com
DTSTAMP:20200324T005631Z
DTSTART:20200415T090000Z
DTEND:20200415T100000Z
SUMMARY:PLEASE NOTE THAT ALL MEETINGS AND CLUB RUNS ARE CANCELLED DUE TO TH
 E CORONAVIRUS PANDEMIC            
END:VEVENT
END:VCALENDAR
