BEGIN:VCALENDAR
VERSION:2.0
PRODID:-//Squarespace Inc/Squarespace 6//v6//EN
BEGIN:VEVENT
UID:5d9eaac02fe40301d45a5126@squarespace.com
DTSTAMP:20200102T103229Z
DTSTART:20200318T080000Z
DTEND:20200318T090000Z
SUMMARY:Monthly Club Meeting
END:VEVENT
END:VCALENDAR
