BEGIN:VCALENDAR
VERSION:2.0
PRODID:-//Squarespace Inc/Squarespace 6//v6//EN
BEGIN:VEVENT
UID:5e2fceaf6357d510f5b1f7b6@squarespace.com
DTSTAMP:20200128T061055Z
DTSTART:20200311T231500Z
DTEND:20200312T033000Z
SUMMARY:Lunch at Settlers Arms Inn - St Albans 
END:VEVENT
END:VCALENDAR
