BEGIN:VCALENDAR
VERSION:2.0
PRODID:-//Squarespace Inc/Squarespace 6//v6//EN
BEGIN:VEVENT
UID:5e08048c7469674a2dd0059e@squarespace.com
DTSTAMP:20200102T103106Z
DTSTART:20200205T230000Z
DTEND:20200206T050000Z
SUMMARY:Northern Beaches Run – Thursday 6 February 2020
END:VEVENT
END:VCALENDAR
