BEGIN:VCALENDAR
VERSION:2.0
PRODID:-//Squarespace Inc/Squarespace 6//v6//EN
BEGIN:VEVENT
UID:5e08089d31a7876caf4e5b26@squarespace.com
DTSTAMP:20200220T075036Z
DTSTART:20200222T230000Z
DTEND:20200223T040000Z
SUMMARY:CANCELLATION - Shed Day - Sunday 23 February 2020
END:VEVENT
END:VCALENDAR
