BEGIN:VCALENDAR
VERSION:2.0
PRODID:-//Squarespace Inc/Squarespace 6//v6//EN
BEGIN:VEVENT
UID:5f877a474fc41b547896b892@squarespace.com
DTSTAMP:20201014T222728Z
DTSTART:20201119T230000Z
DTEND:20201120T040000Z
SUMMARY:Cumberland State Forest
END:VEVENT
END:VCALENDAR
