BEGIN:VCALENDAR
VERSION:2.0
PRODID:-//Squarespace Inc/Squarespace 6//v6//EN
BEGIN:VEVENT
UID:5f8778e030fbb021a8787967@squarespace.com
DTSTAMP:20201014T222220Z
DTSTART:20201022T230000Z
DTEND:20201023T033000Z
SUMMARY:Run to The Secret Garden and Nursery\, Richmond
END:VEVENT
END:VCALENDAR
