BEGIN:VCALENDAR
VERSION:2.0
PRODID:-//Squarespace Inc/Squarespace 6//v6//EN
BEGIN:VEVENT
UID:5f8776e66c4f8c5c9006f53b@squarespace.com
DTSTAMP:20201014T221323Z
DTSTART:20201021T080000Z
DTEND:20201021T093000Z
SUMMARY:Monthly Club Meeting  - Brush Farm House 
END:VEVENT
END:VCALENDAR
