BEGIN:VCALENDAR
VERSION:2.0
PRODID:-//Squarespace Inc/Squarespace 6//v6//EN
BEGIN:VEVENT
UID:5d00ce62be4f0200015aa95b@squarespace.com
DTSTAMP:20190612T100941Z
DTSTART:20190922T003000Z
DTEND:20190922T050000Z
SUMMARY:President's Run to Camden Park House - Sunday 22 September 2019
END:VEVENT
END:VCALENDAR
