BEGIN:VCALENDAR
VERSION:2.0
PRODID:-//Squarespace Inc/Squarespace 6//v6//EN
BEGIN:VEVENT
UID:5c5cc9ab7817f7e03ee3c3bb@squarespace.com
DTSTAMP:20190612T095649Z
DTSTART:20190918T090000Z
DTEND:20190918T100000Z
SUMMARY:Monthly Club Meeting
END:VEVENT
END:VCALENDAR
