BEGIN:VCALENDAR
VERSION:2.0
PRODID:-//Squarespace Inc/Squarespace 6//v6//EN
BEGIN:VEVENT
UID:5c5cc97353450ad3d56b6232@squarespace.com
DTSTAMP:20190612T095524Z
DTSTART:20190821T090000Z
DTEND:20190821T100000Z
SUMMARY:Monthly Club Meeting - Brush Farm House
END:VEVENT
END:VCALENDAR
