BEGIN:VCALENDAR
VERSION:2.0
PRODID:-//Squarespace Inc/Squarespace 6//v6//EN
BEGIN:VEVENT
UID:5c73af70eef1a1a6b0e2a5b7@squarespace.com
DTSTAMP:20190612T092100Z
DTSTART:20190814T000000Z
DTEND:20190814T043000Z
SUMMARY:Northern Beaches Midweek Run - Wednesday 14 August 2019
END:VEVENT
END:VCALENDAR
