BEGIN:VCALENDAR
VERSION:2.0
PRODID:-//Squarespace Inc/Squarespace 6//v6//EN
BEGIN:VEVENT
UID:5c5cc934e2c483d9d3a6cfda@squarespace.com
DTSTAMP:20190612T095549Z
DTSTART:20190717T090000Z
DTEND:20190717T100000Z
SUMMARY:Monthly Club Meeting  - Brush Farm House 
END:VEVENT
END:VCALENDAR
