BEGIN:VCALENDAR
VERSION:2.0
PRODID:-//Squarespace Inc/Squarespace 6//v6//EN
BEGIN:VEVENT
UID:5c5cc387eb39314ca8354ed5@squarespace.com
DTSTAMP:20190612T094543Z
DTSTART:20190714T003000Z
DTEND:20190714T050000Z
SUMMARY:Run to Mt Tomah Botanic Gardens  - Sunday 14 July 2019
END:VEVENT
END:VCALENDAR
