BEGIN:VCALENDAR
VERSION:2.0
PRODID:-//Squarespace Inc/Squarespace 6//v6//EN
BEGIN:VEVENT
UID:5c5cc8ace4966b3a9885f8df@squarespace.com
DTSTAMP:20190208T001103Z
DTSTART:20190619T100000Z
DTEND:20190619T110000Z
SUMMARY:Monthly Club Meeting
END:VEVENT
END:VCALENDAR
