BEGIN:VCALENDAR
VERSION:2.0
PRODID:-//Squarespace Inc/Squarespace 6//v6//EN
BEGIN:VEVENT
UID:5cc94432652dea95e2624fd2@squarespace.com
DTSTAMP:20190501T070559Z
DTSTART:20190601T230000Z
DTEND:20190602T033000Z
SUMMARY:Registration Day - Sunday 2 June 2019
END:VEVENT
END:VCALENDAR
