BEGIN:VCALENDAR
VERSION:2.0
PRODID:-//Squarespace Inc/Squarespace 6//v6//EN
BEGIN:VEVENT
UID:5c5cc068fa0d60669c2a2dfe@squarespace.com
DTSTAMP:20190311T105729Z
DTSTART:20190526T030000Z
DTEND:20190531T000000Z
SUMMARY:Central West Run  Sunday 26 May-Friday 31 May 2019
END:VEVENT
END:VCALENDAR
