BEGIN:VCALENDAR
VERSION:2.0
PRODID:-//Squarespace Inc/Squarespace 6//v6//EN
BEGIN:VEVENT
UID:5c733823652dea4b7984776b@squarespace.com
DTSTAMP:20190225T011754Z
DTSTART:20190518T223000Z
DTEND:20190519T050000Z
SUMMARY:National Motoring Heritage Day - Sunday 19 May 2019
END:VEVENT
END:VCALENDAR
