BEGIN:VCALENDAR
VERSION:2.0
PRODID:-//Squarespace Inc/Squarespace 6//v6//EN
BEGIN:VEVENT
UID:5c5cc850652dea9c2c63c886@squarespace.com
DTSTAMP:20190208T000841Z
DTSTART:20190515T100000Z
DTEND:20190515T110000Z
SUMMARY:Monthly Club Meeting
END:VEVENT
END:VCALENDAR
