BEGIN:VCALENDAR
VERSION:2.0
PRODID:-//Squarespace Inc/Squarespace 6//v6//EN
BEGIN:VEVENT
UID:5c5cc14b104c7b6cb92fcce6@squarespace.com
DTSTAMP:20190311T105655Z
DTSTART:20190405T233000Z
DTEND:20190407T043000Z
SUMMARY:Bach Concert Weekend in the Blue Mountains - Saturday &amp\; Sunday 
 6 &amp\; 7 April 2019
END:VEVENT
END:VCALENDAR
