BEGIN:VCALENDAR
VERSION:2.0
PRODID:-//Squarespace Inc/Squarespace 6//v6//EN
BEGIN:VEVENT
UID:5c5cc7b2e5e5f09c9b9bbf93@squarespace.com
DTSTAMP:20190208T000607Z
DTSTART:20190417T100000Z
DTEND:20190417T110000Z
SUMMARY:Monthly Club Meeting
END:VEVENT
END:VCALENDAR
