BEGIN:VCALENDAR
VERSION:2.0
PRODID:-//Squarespace Inc/Squarespace 6//v6//EN
BEGIN:VEVENT
UID:5c5cbe43ee6eb047fab3563f@squarespace.com
DTSTAMP:20190311T105958Z
DTSTART:20190308T213000Z
DTEND:20190310T043000Z
SUMMARY:Hawks Nest Motorfest - Saturday 9 March 2019
END:VEVENT
END:VCALENDAR
