BEGIN:VCALENDAR
VERSION:2.0
PRODID:-//Squarespace Inc/Squarespace 6//v6//EN
BEGIN:VEVENT
UID:5c594f7f085229fbce5dd701@squarespace.com
DTSTAMP:20190205T085601Z
DTSTART:20190320T090000Z
DTEND:20190320T100000Z
SUMMARY:Monthly Club Meeting
GEO:40.720756;-74.000761
LOCATION:Ermington Community Centre\, 8 River Road\, Ermington\, NSW\, 2115
 \, Australia
END:VEVENT
END:VCALENDAR
