BEGIN:VCALENDAR
VERSION:2.0
PRODID:-//Squarespace Inc/Squarespace 6//v6//EN
BEGIN:VEVENT
UID:5c594eef7817f72a8e81d1d5@squarespace.com
DTSTAMP:20190205T085451Z
DTSTART:20190220T090000Z
DTEND:20190220T100000Z
SUMMARY:Monthly Club Meeting
GEO:-33.815901;151.053458
LOCATION:Ermington Community Centre\, 8 River Road\, Ermington\, NSW\, 2115
 \, Australia
END:VEVENT
END:VCALENDAR
