BEGIN:VCALENDAR
VERSION:2.0
PRODID:-//Squarespace Inc/Squarespace 6//v6//EN
BEGIN:VEVENT
UID:5c594dda4192024193eb5d17@squarespace.com
DTSTAMP:20190311T110111Z
DTSTART:20190216T230000Z
DTEND:20190217T040000Z
SUMMARY:Run to Megalong Valley &amp\; Picnic Lunch - Sunday 17 February 201
 9
END:VEVENT
END:VCALENDAR
