BEGIN:VCALENDAR
VERSION:2.0
PRODID:-//Squarespace Inc/Squarespace 6//v6//EN
BEGIN:VEVENT
UID:5c5cca62ec212d73db9d05b8@squarespace.com
DTSTAMP:20191010T034421Z
DTSTART:20191218T080000Z
DTEND:20191218T090000Z
SUMMARY:Monthly Club Meeting - Brush Farm House\, 19 Lawson Street\, Eastwo
 od\,  2122 NSW
END:VEVENT
END:VCALENDAR
