BEGIN:VCALENDAR
VERSION:2.0
PRODID:-//Squarespace Inc/Squarespace 6//v6//EN
BEGIN:VEVENT
UID:5d9eac972fe40301d45a749c@squarespace.com
DTSTAMP:20191010T041434Z
DTSTART:20191215T003000Z
DTEND:20191215T043000Z
SUMMARY:HOCA Christmas Lunch and Awards Afternoon
END:VEVENT
END:VCALENDAR
