BEGIN:VCALENDAR
VERSION:2.0
PRODID:-//Squarespace Inc/Squarespace 6//v6//EN
BEGIN:VEVENT
UID:5d9ea7c41f444210caacd9d8@squarespace.com
DTSTAMP:20191010T034239Z
DTSTART:20191120T080000Z
DTEND:20191120T090000Z
SUMMARY:Monthly Club Meeting  - Brush Farm House\, 19 Lawson Street Eastwoo
 d\, 2122 NSW
END:VEVENT
END:VCALENDAR
