BEGIN:VCALENDAR
VERSION:2.0
PRODID:-//Squarespace Inc/Squarespace 6//v6//EN
BEGIN:VEVENT
UID:5d00d09e6ca3610001bcdd1d@squarespace.com
DTSTAMP:20191111T011006Z
DTSTART:20191112T233000Z
DTEND:20191113T033000Z
SUMMARY:Cumberland Forest Run - Wednesday 13 November 2019 - PLEASE NOTE TH
 IS EVENT IS CANCELLED DUE TO SEVERE WEATHER CONDITIONS
END:VEVENT
END:VCALENDAR
