BEGIN:VCALENDAR
VERSION:2.0
PRODID:-//Squarespace Inc/Squarespace 6//v6//EN
BEGIN:VEVENT
UID:5c5cc9d8e2c483d9d3a6d7b5@squarespace.com
DTSTAMP:20190612T095856Z
DTSTART:20191016T080000Z
DTEND:20191016T090000Z
SUMMARY:Monthly Club Meeting and AGM - Brush Farm House
END:VEVENT
END:VCALENDAR
