BEGIN:VCALENDAR
VERSION:2.0
PRODID:-//Squarespace Inc/Squarespace 6//v6//EN
BEGIN:VEVENT
UID:5d00cf8094be6800014c5aa4@squarespace.com
DTSTAMP:20190907T022058Z
DTSTART:20191013T113000Z
DTEND:20191013T123000Z
SUMMARY:Australian Motorlife Museum - Sunday 13 October 2019
END:VEVENT
END:VCALENDAR
