BEGIN:VCALENDAR
VERSION:2.0
PRODID:-//Squarespace Inc/Squarespace 6//v6//EN
BEGIN:VEVENT
UID:5d9ea9928e617c1f4a7d3f97@squarespace.com
DTSTAMP:20200102T103239Z
DTSTART:20200219T080000Z
DTEND:20200219T090000Z
SUMMARY:Monthly Club Meeting
END:VEVENT
END:VCALENDAR
