BEGIN:VCALENDAR
VERSION:2.0
PRODID:-//Squarespace Inc/Squarespace 6//v6//EN
BEGIN:VEVENT
UID:5c0cf20421c67cb3f6eae6dd@squarespace.com
DTSTAMP:20190207T235249Z
DTSTART:20190125T210000Z
DTEND:20190126T060000Z
SUMMARY:Parramatta CARnivale
END:VEVENT
END:VCALENDAR
