BEGIN:VCALENDAR
VERSION:2.0
PRODID:-//Squarespace Inc/Squarespace 6//v6//EN
BEGIN:VEVENT
UID:5bfe21edc2241b299cd03995@squarespace.com
DTSTAMP:20190208T002013Z
DTSTART:20181219T090000Z
DTEND:20181219T100000Z
SUMMARY:Monthly Club Meeting
GEO:-33.815901;151.053458
LOCATION:Ermington Community Centre\, 8 River Rd\, Ermington NSW 2115\, Aus
 tralia
END:VEVENT
END:VCALENDAR
