BEGIN:VCALENDAR
VERSION:2.0
PRODID:-//Squarespace Inc/Squarespace 6//v6//EN
BEGIN:VEVENT
UID:5c0cf0e170a6ad8fe34f0d4e@squarespace.com
DTSTAMP:20191010T035906Z
DTSTART:20181216T000000Z
DTEND:20181216T040000Z
SUMMARY:Christmas Lunch
END:VEVENT
END:VCALENDAR
