BEGIN:VCALENDAR
VERSION:2.0
PRODID:-//Squarespace Inc/Squarespace 6//v6//EN
BEGIN:VEVENT
UID:5bfe594270a6ad707740b8e8@squarespace.com
DTSTAMP:20200323T095048Z
DTSTART:20200508T040000Z
DTEND:20200512T000000Z
SUMMARY:15th National Hillman Rally: 8th - 12th May 2020 -  PLEASE NOTE THE 
 RALLY HAS BEEN POSTPONED  
GEO:-35.11548;147.367022
LOCATION:Mercure Hotel Wagga Wagga\, 1-15 Morgan Street\, Wagga Wagga\, NSW
 \, 2650\, Australia
END:VEVENT
END:VCALENDAR
